BEGIN:VCALENDAR
VERSION:2.0
PRODID:-//3unit.ca - ECPv6.15.17.1//NONSGML v1.0//EN
CALSCALE:GREGORIAN
METHOD:PUBLISH
X-WR-CALNAME:3unit.ca
X-ORIGINAL-URL:https://3unit.ca
X-WR-CALDESC:Events for 3unit.ca
REFRESH-INTERVAL;VALUE=DURATION:PT1H
X-Robots-Tag:noindex
X-PUBLISHED-TTL:PT1H
BEGIN:VTIMEZONE
TZID:America/Los_Angeles
BEGIN:DAYLIGHT
TZOFFSETFROM:-0800
TZOFFSETTO:-0700
TZNAME:PDT
DTSTART:20220313T100000
END:DAYLIGHT
BEGIN:STANDARD
TZOFFSETFROM:-0700
TZOFFSETTO:-0800
TZNAME:PST
DTSTART:20221106T090000
END:STANDARD
BEGIN:DAYLIGHT
TZOFFSETFROM:-0800
TZOFFSETTO:-0700
TZNAME:PDT
DTSTART:20230312T100000
END:DAYLIGHT
BEGIN:STANDARD
TZOFFSETFROM:-0700
TZOFFSETTO:-0800
TZNAME:PST
DTSTART:20231105T090000
END:STANDARD
BEGIN:DAYLIGHT
TZOFFSETFROM:-0800
TZOFFSETTO:-0700
TZNAME:PDT
DTSTART:20240310T100000
END:DAYLIGHT
BEGIN:STANDARD
TZOFFSETFROM:-0700
TZOFFSETTO:-0800
TZNAME:PST
DTSTART:20241103T090000
END:STANDARD
END:VTIMEZONE
BEGIN:VEVENT
DTSTART;VALUE=DATE:20230603
DTEND;VALUE=DATE:20230604
DTSTAMP:20260419T142843
CREATED:20230523T224736Z
LAST-MODIFIED:20230523T224736Z
UID:465-1685750400-1685836799@3unit.ca
SUMMARY:IMCA Modified @ Sunset Speedway - Fan Appreciation Night
DESCRIPTION:
URL:https://3unit.ca/schedule/imca-modified-sunset-speedway-fan-appreciation-night/
LOCATION:Sunset Speedway\, 12765 NW Main Street\, Banks\, OR\, 97106\, United States
CATEGORIES:IMCA Modified
ATTACH;FMTTYPE=image/jpeg:https://3unit.ca/wp-content/uploads/2023/05/05132023-unloadday.jpg
END:VEVENT
BEGIN:VEVENT
DTSTART;VALUE=DATE:20230610
DTEND;VALUE=DATE:20230611
DTSTAMP:20260419T142843
CREATED:20230523T224843Z
LAST-MODIFIED:20230523T224843Z
UID:467-1686355200-1686441599@3unit.ca
SUMMARY:IMCA Modified @ Sunset Speedway - Armed Forces Night ($2\,500 to Win Stock Car)
DESCRIPTION:
URL:https://3unit.ca/schedule/imca-modified-sunset-speedway-armed-forces-night-2500-to-win-stock-car/
LOCATION:Sunset Speedway\, 12765 NW Main Street\, Banks\, OR\, 97106\, United States
CATEGORIES:IMCA Modified
ATTACH;FMTTYPE=image/jpeg:https://3unit.ca/wp-content/uploads/2023/05/DDAY1.jpg
END:VEVENT
BEGIN:VEVENT
DTSTART;VALUE=DATE:20230624
DTEND;VALUE=DATE:20230625
DTSTAMP:20260419T142843
CREATED:20230523T225252Z
LAST-MODIFIED:20230523T225252Z
UID:473-1687564800-1687651199@3unit.ca
SUMMARY:IMCA Modified @ Sunset Speedway - **IMCA Wild West Shootout Finale**
DESCRIPTION:
URL:https://3unit.ca/schedule/imca-modified-sunset-speedway-imca-wild-west-shootout-finale/
LOCATION:Sunset Speedway\, 12765 NW Main Street\, Banks\, OR\, 97106\, United States
CATEGORIES:IMCA Modified
ATTACH;FMTTYPE=image/jpeg:https://3unit.ca/wp-content/uploads/2023/05/DDAY2.jpg
END:VEVENT
END:VCALENDAR