BEGIN:VCALENDAR
VERSION:2.0
PRODID:-//3unit.ca - ECPv6.15.17.1//NONSGML v1.0//EN
CALSCALE:GREGORIAN
METHOD:PUBLISH
X-ORIGINAL-URL:https://3unit.ca
X-WR-CALDESC:Events for 3unit.ca
REFRESH-INTERVAL;VALUE=DURATION:PT1H
X-Robots-Tag:noindex
X-PUBLISHED-TTL:PT1H
BEGIN:VTIMEZONE
TZID:America/Los_Angeles
BEGIN:DAYLIGHT
TZOFFSETFROM:-0800
TZOFFSETTO:-0700
TZNAME:PDT
DTSTART:20220313T100000
END:DAYLIGHT
BEGIN:STANDARD
TZOFFSETFROM:-0700
TZOFFSETTO:-0800
TZNAME:PST
DTSTART:20221106T090000
END:STANDARD
BEGIN:DAYLIGHT
TZOFFSETFROM:-0800
TZOFFSETTO:-0700
TZNAME:PDT
DTSTART:20230312T100000
END:DAYLIGHT
BEGIN:STANDARD
TZOFFSETFROM:-0700
TZOFFSETTO:-0800
TZNAME:PST
DTSTART:20231105T090000
END:STANDARD
BEGIN:DAYLIGHT
TZOFFSETFROM:-0800
TZOFFSETTO:-0700
TZNAME:PDT
DTSTART:20240310T100000
END:DAYLIGHT
BEGIN:STANDARD
TZOFFSETFROM:-0700
TZOFFSETTO:-0800
TZNAME:PST
DTSTART:20241103T090000
END:STANDARD
END:VTIMEZONE
BEGIN:VEVENT
DTSTART;VALUE=DATE:20230704
DTEND;VALUE=DATE:20230705
DTSTAMP:20260419T122715
CREATED:20230523T225537Z
LAST-MODIFIED:20230523T225537Z
UID:477-1688428800-1688515199@3unit.ca
SUMMARY:IMCA Modified @ Sunset Speedway - 4th of July Special
DESCRIPTION:
URL:https://3unit.ca/schedule/imca-modified-sunset-speedway-4th-of-july-special/
LOCATION:Sunset Speedway\, 12765 NW Main Street\, Banks\, OR\, 97106\, United States
CATEGORIES:IMCA Modified
ATTACH;FMTTYPE=image/jpeg:https://3unit.ca/wp-content/uploads/2023/04/FB_IMG_1626196969096.jpg
END:VEVENT
BEGIN:VEVENT
DTSTART;VALUE=DATE:20230722
DTEND;VALUE=DATE:20230723
DTSTAMP:20260419T122715
CREATED:20230711T185508Z
LAST-MODIFIED:20230711T185827Z
UID:596-1689984000-1690070399@3unit.ca
SUMMARY:IMCA Modified @ Sunset Speedway - Jim's 100
DESCRIPTION:
URL:https://3unit.ca/schedule/imca-modified-sunset-speedway-jims-100/
LOCATION:Sunset Speedway\, 12765 NW Main Street\, Banks\, OR\, 97106\, United States
CATEGORIES:IMCA Modified
ATTACH;FMTTYPE=image/jpeg:https://3unit.ca/wp-content/uploads/2023/06/351130709_10167519419430562_3838346106302181264_n.jpg
END:VEVENT
BEGIN:VEVENT
DTSTART;VALUE=DATE:20230729
DTEND;VALUE=DATE:20230730
DTSTAMP:20260419T122715
CREATED:20230727T190258Z
LAST-MODIFIED:20230727T190258Z
UID:622-1690588800-1690675199@3unit.ca
SUMMARY:IMCA Modified @ Sunset Speedway (Kid's Night)
DESCRIPTION:
URL:https://3unit.ca/schedule/imca-modified-sunset-speedway-kids-night/
LOCATION:Sunset Speedway\, 12765 NW Main Street\, Banks\, OR\, 97106\, United States
CATEGORIES:IMCA Modified
ATTACH;FMTTYPE=image/jpeg:https://3unit.ca/wp-content/uploads/2023/07/Resized_20201114_145912.jpg
END:VEVENT
END:VCALENDAR