BEGIN:VCALENDAR
VERSION:2.0
PRODID:-//3unit.ca - ECPv6.15.17.1//NONSGML v1.0//EN
CALSCALE:GREGORIAN
METHOD:PUBLISH
X-ORIGINAL-URL:https://3unit.ca
X-WR-CALDESC:Events for 3unit.ca
REFRESH-INTERVAL;VALUE=DURATION:PT1H
X-Robots-Tag:noindex
X-PUBLISHED-TTL:PT1H
BEGIN:VTIMEZONE
TZID:America/Los_Angeles
BEGIN:DAYLIGHT
TZOFFSETFROM:-0800
TZOFFSETTO:-0700
TZNAME:PDT
DTSTART:20220313T100000
END:DAYLIGHT
BEGIN:STANDARD
TZOFFSETFROM:-0700
TZOFFSETTO:-0800
TZNAME:PST
DTSTART:20221106T090000
END:STANDARD
BEGIN:DAYLIGHT
TZOFFSETFROM:-0800
TZOFFSETTO:-0700
TZNAME:PDT
DTSTART:20230312T100000
END:DAYLIGHT
BEGIN:STANDARD
TZOFFSETFROM:-0700
TZOFFSETTO:-0800
TZNAME:PST
DTSTART:20231105T090000
END:STANDARD
BEGIN:DAYLIGHT
TZOFFSETFROM:-0800
TZOFFSETTO:-0700
TZNAME:PDT
DTSTART:20240310T100000
END:DAYLIGHT
BEGIN:STANDARD
TZOFFSETFROM:-0700
TZOFFSETTO:-0800
TZNAME:PST
DTSTART:20241103T090000
END:STANDARD
END:VTIMEZONE
BEGIN:VEVENT
DTSTART;VALUE=DATE:20230812
DTEND;VALUE=DATE:20230813
DTSTAMP:20260419T103745
CREATED:20230811T185740Z
LAST-MODIFIED:20230811T185740Z
UID:634-1691798400-1691884799@3unit.ca
SUMMARY:IMCA Modified @ Sunset Speedway (Whisler Construction Mod Frenzy)
DESCRIPTION:
URL:https://3unit.ca/schedule/imca-modified-sunset-speedway-whisler-construction-mod-frenzy/
LOCATION:Sunset Speedway\, 12765 NW Main Street\, Banks\, OR\, 97106\, United States
CATEGORIES:IMCA Modified
ATTACH;FMTTYPE=image/jpeg:https://3unit.ca/wp-content/uploads/2023/08/362238046_10167679288065562_7426842007624766173_n.jpg
END:VEVENT
END:VCALENDAR