BEGIN:VCALENDAR
VERSION:2.0
PRODID:-//3unit.ca - ECPv6.15.17.1//NONSGML v1.0//EN
CALSCALE:GREGORIAN
METHOD:PUBLISH
X-WR-CALNAME:3unit.ca
X-ORIGINAL-URL:https://3unit.ca
X-WR-CALDESC:Events for 3unit.ca
REFRESH-INTERVAL;VALUE=DURATION:PT1H
X-Robots-Tag:noindex
X-PUBLISHED-TTL:PT1H
BEGIN:VTIMEZONE
TZID:America/Los_Angeles
BEGIN:DAYLIGHT
TZOFFSETFROM:-0800
TZOFFSETTO:-0700
TZNAME:PDT
DTSTART:20240310T100000
END:DAYLIGHT
BEGIN:STANDARD
TZOFFSETFROM:-0700
TZOFFSETTO:-0800
TZNAME:PST
DTSTART:20241103T090000
END:STANDARD
BEGIN:DAYLIGHT
TZOFFSETFROM:-0800
TZOFFSETTO:-0700
TZNAME:PDT
DTSTART:20250309T100000
END:DAYLIGHT
BEGIN:STANDARD
TZOFFSETFROM:-0700
TZOFFSETTO:-0800
TZNAME:PST
DTSTART:20251102T090000
END:STANDARD
BEGIN:DAYLIGHT
TZOFFSETFROM:-0800
TZOFFSETTO:-0700
TZNAME:PDT
DTSTART:20260308T100000
END:DAYLIGHT
BEGIN:STANDARD
TZOFFSETFROM:-0700
TZOFFSETTO:-0800
TZNAME:PST
DTSTART:20261101T090000
END:STANDARD
END:VTIMEZONE
BEGIN:VEVENT
DTSTART;VALUE=DATE:20251004
DTEND;VALUE=DATE:20251005
DTSTAMP:20260419T182338
CREATED:20251003T162856Z
LAST-MODIFIED:20251003T162856Z
UID:1074-1759536000-1759622399@3unit.ca
SUMMARY:Jim Potter Memorial @ River City Speedway
DESCRIPTION:$1500-to-win race to end our NW season.
URL:https://3unit.ca/schedule/jim-potter-memorial-river-city-speedway/
LOCATION:River City Speedway\, 58892 Saulser Rd\, St Helens\, OR\, 97051\, United States
CATEGORIES:IMCA Modified
END:VEVENT
BEGIN:VEVENT
DTSTART;VALUE=DATE:20251112
DTEND;VALUE=DATE:20251116
DTSTAMP:20260419T182338
CREATED:20251013T183655Z
LAST-MODIFIED:20251013T183655Z
UID:1078-1762905600-1763251199@3unit.ca
SUMMARY:2025 IMCA Duel in the Desert @ Mohave Valley Raceway
DESCRIPTION:This is it! Our favorite race of the year has moved to the 1/3 mile bullring of Mohave Valley Raceway for 2025.
URL:https://3unit.ca/schedule/2025-imca-duel-in-the-desert-mohave-valley-raceway/
LOCATION:Mohave Valley Raceway\, 2750 E. Laguna Road\, Mohave Valley\, AZ\, 86440\, United States
CATEGORIES:IMCA Modified
ATTACH;FMTTYPE=image/jpeg:https://3unit.ca/wp-content/uploads/2025/10/mohaveduels2025.jpg
END:VEVENT
END:VCALENDAR